BEGIN:VCALENDAR
VERSION:2.0
PRODID:-//https://awwda.ca///NONSGML kigkonsult.se iCalcreator 2.10.15//
METHOD:PUBLISH
BEGIN:VEVENT
UID:20260422T134734MDT-3512Z6WWvO@https://awwda.ca/
DTSTAMP:20260422T194734Z
DESCRIPTION:2015 AWWDA Convention and Trade Show
DTSTART:20150424T022100Z
DTEND:20150426T042100Z
LOCATION:Elias (51 Avenue\, Red Deer\, AB T4N\, Canada)
SUMMARY:AWWDA 2015 Convention
END:VEVENT
END:VCALENDAR
