BEGIN:VCALENDAR
VERSION:2.0
PRODID:-//https://awwda.ca///NONSGML kigkonsult.se iCalcreator 2.10.15//
METHOD:PUBLISH
BEGIN:VEVENT
UID:20260422T133728MDT-3936PeFOut@https://awwda.ca/
DTSTAMP:20260422T193728Z
DESCRIPTION:The 63rd&nbsp\;Alberta Water Well Drilling Association Conventi
 on &amp\; Tradeshow will take place on March 25-27\, 2020\, at the Cambrid
 ge Hotel &amp\; Conference Centre in Red Deer.
DTSTART:20210325T170000Z
DTEND:20210328T053000Z
LOCATION:Cambridge Hotel  (3310 50 Ave\, Red Deer AB  T4N 3X9)
SUMMARY:63rd Alberta Water Well Drilling Association Convention & Tradeshow
END:VEVENT
END:VCALENDAR
