BEGIN:VCALENDAR
VERSION:2.0
PRODID:-//https://awwda.ca///NONSGML kigkonsult.se iCalcreator 2.10.15//
METHOD:PUBLISH
BEGIN:VEVENT
UID:20260422T134116MDT-1486VBIGDn@https://awwda.ca/
DTSTAMP:20260422T194116Z
DESCRIPTION:Located on Range Road 275 north of Highway 11A and QEII &nbsp\;
 GPS = 52.20'34.41' &nbsp\;113.52'02.83' &nbsp\;from google earth &nbsp\;St
 arts at 10 am sharp with a shotgun start.
DTSTART:20150919T160000Z
DTEND:20150920T020000Z
LOCATION:Spirit Creek Golf Course (Range Road 275 North of Highway 11A and 
 QEII  )
SUMMARY:AWWDA Golf Tournament
END:VEVENT
END:VCALENDAR
