BEGIN:VCALENDAR
VERSION:2.0
PRODID:-//https://awwda.ca///NONSGML kigkonsult.se iCalcreator 2.10.15//
METHOD:PUBLISH
BEGIN:VEVENT
UID:20260422T104832MDT-9337aPhXku@https://awwda.ca/
DTSTAMP:20260422T164832Z
DESCRIPTION:The 62nd Alberta Water Well Drilling Association Convention &am
 p\; Tradeshow will take place from April 25-28\, 2019 at the Sheraton Red 
 Deer Hotel. Information and registration forms are available on our websit
 e. We look forward to seeing you there!
DTSTART:20190425T170000Z
DTEND:20190429T053000Z
LOCATION:Sheraton Red Deer Hotel (3310 50 Ave\, Red Deer\, AB T4N 3X9\, Can
 ada)
SUMMARY:62nd Alberta Water Well Drilling Association Convention & Tradeshow
END:VEVENT
END:VCALENDAR
